BEGIN:VCALENDAR
VERSION:2.0
PRODID:-//St. Anthony Community Theater - ECPv6.3.2//NONSGML v1.0//EN
CALSCALE:GREGORIAN
METHOD:PUBLISH
X-ORIGINAL-URL:https://sactheater.org
X-WR-CALDESC:Events for St. Anthony Community Theater
REFRESH-INTERVAL;VALUE=DURATION:PT1H
X-Robots-Tag:noindex
X-PUBLISHED-TTL:PT1H
BEGIN:VTIMEZONE
TZID:America/Chicago
BEGIN:DAYLIGHT
TZOFFSETFROM:-0600
TZOFFSETTO:-0500
TZNAME:CDT
DTSTART:20220313T080000
END:DAYLIGHT
BEGIN:STANDARD
TZOFFSETFROM:-0500
TZOFFSETTO:-0600
TZNAME:CST
DTSTART:20221106T070000
END:STANDARD
END:VTIMEZONE
BEGIN:VEVENT
DTSTART;TZID=America/Chicago:20220804T080000
DTEND;TZID=America/Chicago:20220804T170000
DTSTAMP:20260421T122257
CREATED:20220707T031721Z
LAST-MODIFIED:20220707T031721Z
UID:444-1659600000-1659632400@sactheater.org
SUMMARY:MATILDA THE MUSICAL - Aug 4
DESCRIPTION:St. Anthony Community Theater proudly presents "Matilda the Musical" by Dennis Kelly with music & lyrics by Tim Minchin; based on the book Matilda by Roald Dahl. This production is authorized under license through Music Theatre International. All performances take place at St. Anthony Village High School Auditorium. Unauthorized photos and/or recordings are prohibited.
URL:https://sactheater.org/event/matilda-the-musical-aug-4/
LOCATION:St. Anthony High School Auditorium\, 3303 33rd Ave NE\, Minneapolis\, MN\, 55418\, United States
CATEGORIES:Show
END:VEVENT
BEGIN:VEVENT
DTSTART;TZID=America/Chicago:20220806T190000
DTEND;TZID=America/Chicago:20220806T190000
DTSTAMP:20260421T122258
CREATED:20220707T031916Z
LAST-MODIFIED:20220707T031916Z
UID:446-1659812400-1659812400@sactheater.org
SUMMARY:MATILDA THE MUSICAL - Aug 6
DESCRIPTION:St. Anthony Community Theater proudly presents "Matilda the Musical" by Dennis Kelly with music & lyrics by Tim Minchin; based on the book Matilda by Roald Dahl. This production is authorized under license through Music Theatre International. All performances take place at St. Anthony Village High School Auditorium. Unauthorized photos and/or recordings are prohibited.
URL:https://sactheater.org/event/matilda-the-musical-aug-6/
LOCATION:St. Anthony High School Auditorium\, 3303 33rd Ave NE\, Minneapolis\, MN\, 55418\, United States
CATEGORIES:Show
END:VEVENT
BEGIN:VEVENT
DTSTART;TZID=America/Chicago:20220807T140000
DTEND;TZID=America/Chicago:20220807T170000
DTSTAMP:20260421T122258
CREATED:20220707T032106Z
LAST-MODIFIED:20220707T032106Z
UID:448-1659880800-1659891600@sactheater.org
SUMMARY:MATILDA THE MUSICAL - Aug 7
DESCRIPTION:St. Anthony Community Theater proudly presents "Matilda the Musical" by Dennis Kelly with music & lyrics by Tim Minchin; based on the book Matilda by Roald Dahl. This production is authorized under license through Music Theatre International. All performances take place at St. Anthony Village High School Auditorium. Unauthorized photos and/or recordings are prohibited.
URL:https://sactheater.org/event/matilda-the-musical-aug-7/
LOCATION:St. Anthony High School Auditorium\, 3303 33rd Ave NE\, Minneapolis\, MN\, 55418\, United States
CATEGORIES:Show
END:VEVENT
END:VCALENDAR