BEGIN:VCALENDAR
VERSION:2.0
PRODID:-//St. Anthony Community Theater - ECPv6.3.2//NONSGML v1.0//EN
CALSCALE:GREGORIAN
METHOD:PUBLISH
X-WR-CALNAME:St. Anthony Community Theater
X-ORIGINAL-URL:https://sactheater.org
X-WR-CALDESC:Events for St. Anthony Community Theater
REFRESH-INTERVAL;VALUE=DURATION:PT1H
X-Robots-Tag:noindex
X-PUBLISHED-TTL:PT1H
BEGIN:VTIMEZONE
TZID:America/Chicago
BEGIN:DAYLIGHT
TZOFFSETFROM:-0600
TZOFFSETTO:-0500
TZNAME:CDT
DTSTART:20220313T080000
END:DAYLIGHT
BEGIN:STANDARD
TZOFFSETFROM:-0500
TZOFFSETTO:-0600
TZNAME:CST
DTSTART:20221106T070000
END:STANDARD
END:VTIMEZONE
BEGIN:VEVENT
DTSTART;TZID=America/Chicago:20220731T190000
DTEND;TZID=America/Chicago:20220731T190000
DTSTAMP:20260421T152005
CREATED:20220707T031552Z
LAST-MODIFIED:20220707T031738Z
UID:442-1659294000-1659294000@sactheater.org
SUMMARY:MATILDA THE MUSICAL - Jul 31
DESCRIPTION:St. Anthony Community Theater proudly presents "Matilda the Musical" by Dennis Kelly with music & lyrics by Tim Minchin; based on the book Matilda by Roald Dahl. This production is authorized under license through Music Theatre International. All performances take place at St. Anthony Village High School Auditorium. Unauthorized photos and/or recordings are prohibited.
URL:https://sactheater.org/event/matilda-the-musical-jul-31/
LOCATION:St. Anthony High School Auditorium\, 3303 33rd Ave NE\, Minneapolis\, MN\, 55418\, United States
CATEGORIES:Show
END:VEVENT
END:VCALENDAR