BEGIN:VCALENDAR
VERSION:2.0
PRODID:-//St. Anthony Community Theater - ECPv6.3.2//NONSGML v1.0//EN
CALSCALE:GREGORIAN
METHOD:PUBLISH
X-ORIGINAL-URL:https://sactheater.org
X-WR-CALDESC:Events for St. Anthony Community Theater
REFRESH-INTERVAL;VALUE=DURATION:PT1H
X-Robots-Tag:noindex
X-PUBLISHED-TTL:PT1H
BEGIN:VTIMEZONE
TZID:America/Chicago
BEGIN:DAYLIGHT
TZOFFSETFROM:-0600
TZOFFSETTO:-0500
TZNAME:CDT
DTSTART:20200308T080000
END:DAYLIGHT
BEGIN:STANDARD
TZOFFSETFROM:-0500
TZOFFSETTO:-0600
TZNAME:CST
DTSTART:20201101T070000
END:STANDARD
END:VTIMEZONE
BEGIN:VEVENT
DTSTART;TZID=America/Chicago:20200802T193000
DTEND;TZID=America/Chicago:20200802T203000
DTSTAMP:20260425T072205
CREATED:20200601T205717Z
LAST-MODIFIED:20200720T135012Z
UID:300-1596396600-1596400200@sactheater.org
SUMMARY:Premiere of "What Is Your Superpower"
DESCRIPTION:St. Anthony Community Theater (SACT) presents the world premiere of "What’s Your Superpower?" on Sunday\, August 2\, 7:30 pm via Facebook Live at https://www.facebook.com/sactheater/ in conjunction with St. Anthony’s Village Fest. \nThis original production is family friendly and based on the magic of imagination inspired by Roald Dahl's "Matilda" which was to have been this summer's show. \nThere will be Multiple Options to see “What’s Your Superpower?”! \nThere will be multiple options to enjoy “What’s Your Superpower?” including a Drive-In Theater experience and playback on CTV channels 15 and HD859 in addition to Facebook Live. \n“What’s Your Superpower?” will be live streamed on Facebook from the St. Anthony Village High School’s main parking lot in a drive-in theater style experience. Event run-time is anticipated to be 60-75 minutes. There is no charge\, but free-will donations are welcome. Electronic donations can be made at www.sactheater.org \nDrive-In attendees will be required to park in every other space\, to remain in their vehicles\, and to observe MDH health and safety guidelines. Walk-up attendees are required to stay in household groups of less than 10\, remaining 10 feet from other household groups. Wearing of face masks is required for all attendees. Rain date is Monday\, August 3. \nSACT is presenting "What’s Your Superpower?" on Facebook Live as a celebration of the power of the human spirit and to inspire people to use their abilities to help their community. The event also aspires to foster excitement for SACT and our planned 2021 production of Roald Dahl's "Matilda". \nSt. Anthony Community Theater\, www.sactheater.org\, has been building community through the performing arts since 2001.
URL:https://sactheater.org/event/premiere-of-what-is-your-superpower/
LOCATION:MN
CATEGORIES:Show
END:VEVENT
END:VCALENDAR